BEGIN:VCALENDAR
VERSION:2.0
PRODID:-//Pour le Bal - ECPv4.1.1.1//NONSGML v1.0//EN
CALSCALE:GREGORIAN
METHOD:PUBLISH
X-WR-CALNAME:Pour le Bal
X-ORIGINAL-URL:https://www.pourlebal.ch
X-WR-CALDESC:Events for Pour le Bal
BEGIN:VEVENT
DTSTART;TZID=Europe/Paris:20231120T193000
DTEND;TZID=Europe/Paris:20231120T220000
DTSTAMP:20260420T030016
CREATED:20230714T173954
LAST-MODIFIED:20231116T091726
UID:1329-1700508600-1700517600@www.pourlebal.ch
SUMMARY:Minibal d'automne
DESCRIPTION: Lundi 20 novembre c’est Minibal-Boeuf chez Pourlebal à Genève\, au Spot !\n\n Ouvert à toute personne ayant envie de partager toutes sortes de danses folk\, de couple ou en groupe\, venez danser\, chanter ou jouer de votre instrument préféré. Le programme est au gré des envies des musiciens-nes\, bonne humeur assurée !\n\n Pour en savoir plus: un boeuf (“jam session” en anglais) est une session de musique partagée entre différents-es musiciens-nes. Tout-e musicien-ne est bienvenu-e (même s’il-elle ne participe pas aux ateliers de l’association). Les soirées boeuf permettent de jouer de la musique ensemble et de la proposer aux danseurs-euses pour faire un minibal\, sur la base d’un répertoire commun aux musicien-nes – partitions disponibles ici: https://kdrive.infomaniak.com/app/share/175080/54851672-b50a-4000-8480-dccefa63137e\n\nInfos pratiques:\nPrix: 5.-\nPetits mets ou snacks à partager bienvenus.\nQuand: lundi 20 novembre 2023 – de 19h30 à 21h30\nOù: Le Spot – Maison de Quartiers de Chêne-Bourg\n2\, rue François-Perréard – Genève\nArrêt Tram Peillonnex (ligne 12/17)
URL:https://www.pourlebal.ch/index.php/event/minibal-2/
LOCATION:2 rue François-Perréard\, Chêne-Bourg\,  Genève\, 1225\, Suisse
CATEGORIES:Bal au SPOT
ATTACH;FMTTYPE=image/png:https://www.pourlebal.ch/wp-content/uploads/minibal-1.png
ORGANIZER;CN="Pourlebal":MAILTO:info@pourlebal.ch
END:VEVENT
END:VCALENDAR