BEGIN:VCALENDAR
VERSION:2.0
PRODID:-//Pour le Bal - ECPv4.1.1.1//NONSGML v1.0//EN
CALSCALE:GREGORIAN
METHOD:PUBLISH
X-WR-CALNAME:Pour le Bal
X-ORIGINAL-URL:https://www.pourlebal.ch
X-WR-CALDESC:Events for Pour le Bal
BEGIN:VEVENT
DTSTART;TZID=Europe/Paris:20260216T193000
DTEND;TZID=Europe/Paris:20260216T213000
DTSTAMP:20260420T222127
CREATED:20251207T125441
LAST-MODIFIED:20260129T075019
UID:1864-1771270200-1771277400@www.pourlebal.ch
SUMMARY:Atelier danses du Sud de l'Italie
DESCRIPTION:L’association Pourlebal a le plaisir de vous proposer une nouvelle collaboration inédite avec les ADEM\, pour découvrir des danses du Sud de l'Italie.\n\nNos intervenant.e.s seront Massimo Laguardia\, Anna Rita Corvaglia et Valeria Anna Mellone. Un deuxième atelier aura lieu le lundi 2 mars\, mais les deux ateliers peuvent sans problème être suivis individuellement.\n\nUne participation de 10.- (5.- pour les étudiants\, petits budgets\, etc) est demandée. Cette contribution permet de défrayer les animateurs-trices qui viennent parfois de loin\, boire un verre à la pause\, aider à la location de la salle\, ainsi que d’avoir une réserve financière pour organiser bals et stages.
URL:https://www.pourlebal.ch/index.php/event/atelier-danses-sud-de-litalie/
LOCATION:2 rue François-Perréard\, Chêne-Bourg\,  Genève\, 1225\, Suisse
CATEGORIES:Ateliers de danse
ORGANIZER;CN="Pourlebal":MAILTO:info@pourlebal.ch
END:VEVENT
END:VCALENDAR