BEGIN:VCALENDAR
VERSION:2.0
PRODID:-//Pour le Bal - ECPv4.1.1.1//NONSGML v1.0//EN
CALSCALE:GREGORIAN
METHOD:PUBLISH
X-WR-CALNAME:Pour le Bal
X-ORIGINAL-URL:https://www.pourlebal.ch
X-WR-CALDESC:Events for Pour le Bal
BEGIN:VEVENT
DTSTART;TZID=Europe/Paris:20241104T193000
DTEND;TZID=Europe/Paris:20241104T213000
DTSTAMP:20260423T202756
CREATED:20240819T172743
LAST-MODIFIED:20240819T172743
UID:1616-1730748600-1730755800@www.pourlebal.ch
SUMMARY:Atelier danse avec Guilhem
DESCRIPTION:Guilhem nous embarque cette année dans trois thématiques : les danses du Poitou\, du Pays basque et des bourrées. Pour cette première partie de l’année\, il abordera les danses du Poitou. Aujourd’hui\, il s’attaque au Bal Limousine\, Mardis Gras et en plus des variantes de scottish.\nUne participation de 10.- (5.- pour les étudiants\, petits budgets\, etc) est demandée. Cette contribution permet de défrayer les animateurs-trices qui viennent parfois de loin\, boire un verre à la pause\, aider à la location de la salle\, ainsi que d’avoir une réserve financière pour organiser bals et stages.
URL:https://www.pourlebal.ch/index.php/event/atelier-danse-guilhem-3/
LOCATION:2 rue François-Perréard\, Chêne-Bourg\,  Genève\, 1225\, Suisse
CATEGORIES:Ateliers de danse
ORGANIZER;CN="Pourlebal":MAILTO:info@pourlebal.ch
END:VEVENT
END:VCALENDAR