BEGIN:VCALENDAR
VERSION:2.0
PRODID:-//Pour le Bal - ECPv4.1.1.1//NONSGML v1.0//EN
CALSCALE:GREGORIAN
METHOD:PUBLISH
X-WR-CALNAME:Pour le Bal
X-ORIGINAL-URL:https://www.pourlebal.ch
X-WR-CALDESC:Events for Pour le Bal
BEGIN:VEVENT
DTSTART;TZID=Europe/Paris:20240610T193000
DTEND;TZID=Europe/Paris:20240610T213000
DTSTAMP:20260421T020525
CREATED:20240508T063158
LAST-MODIFIED:20240508T063158
UID:1583-1718047800-1718055000@www.pourlebal.ch
SUMMARY:Atelier musique
DESCRIPTION:
URL:https://www.pourlebal.ch/index.php/event/atelier-musique-17/
LOCATION:2 rue François-Perréard\, Chêne-Bourg\,  Genève\, 1225\, Suisse
CATEGORIES:Atelier musiciens
END:VEVENT
END:VCALENDAR