BEGIN:VCALENDAR
VERSION:2.0
PRODID:-//Pour le Bal - ECPv4.1.1.1//NONSGML v1.0//EN
CALSCALE:GREGORIAN
METHOD:PUBLISH
X-WR-CALNAME:Pour le Bal
X-ORIGINAL-URL:https://www.pourlebal.ch
X-WR-CALDESC:Events for Pour le Bal
BEGIN:VEVENT
DTSTART;TZID=Europe/Paris:20251201T193000
DTEND;TZID=Europe/Paris:20251201T213000
DTSTAMP:20260419T144425
CREATED:20250913T100944
LAST-MODIFIED:20251115T144451
UID:1819-1764617400-1764624600@www.pourlebal.ch
SUMMARY:Minibal /Boeuf
DESCRIPTION:\n\nLundi 1er  décembre c’est Minibal / Boeuf avec Pourlebal à Genève\, au Spot !\n\n \n\nOuvert à toute personne ayant envie de partager toutes sortes de danses folk\, de couple ou en groupe\, venez danser\, chanter ou jouer de votre instrument préféré. Le programme est au gré des envies des musiciens-nes\, bonne humeur assurée !\n\n \n\nPour en savoir plus: un boeuf (“jam session” en anglais) est une session de musique partagée entre différents-es musiciens-nes. Tout-e musicien-ne est bienvenu-e (même s’il-elle ne participe pas aux ateliers de l’association). Les soirées boeuf permettent de jouer de la musique ensemble et de la proposer aux danseurs-euses pour faire un minibal\, sur la base d’un répertoire commun aux musicien-nes – partitions disponibles ici: https://kdrive.infomaniak.com/…/54851672-b50a-4000-8480…\n\n \n\nInfos pratiques:\nPrix: 5.-\nPetits mets ou snacks à partager bienvenus.\nQuand: lundi 1er décembre 2025 – de 19h30 à 21h30\nOù: Le Spot – Maison de Quartiers de Chêne-Bourg\n2\, rue François-Perréard – Genève\nArrêt Tram Peillonnex (ligne 12/17)\n\n
URL:https://www.pourlebal.ch/index.php/event/minibal-boeuf/
LOCATION:2 rue François-Perréard\, Chêne-Bourg\,  Genève\, 1225\, Suisse
CATEGORIES:Bal au SPOT
ATTACH;FMTTYPE=image/jpeg:https://www.pourlebal.ch/wp-content/uploads/minibal.jpg
ORGANIZER;CN="Pourlebal":MAILTO:info@pourlebal.ch
END:VEVENT
END:VCALENDAR