BEGIN:VCALENDAR
VERSION:2.0
PRODID:-//Pour le Bal - ECPv4.1.1.1//NONSGML v1.0//EN
CALSCALE:GREGORIAN
METHOD:PUBLISH
X-WR-CALNAME:Pour le Bal
X-ORIGINAL-URL:https://www.pourlebal.ch
X-WR-CALDESC:Events for Pour le Bal
BEGIN:VEVENT
DTSTART;TZID=Europe/Paris:20201109T193000
DTEND;TZID=Europe/Paris:20201109T213000
DTSTAMP:20260422T192115
CREATED:20200921T142338
LAST-MODIFIED:20200921T142338
UID:1014-1604950200-1604957400@www.pourlebal.ch
SUMMARY:Atelier Danses d'Italie Du Sud
DESCRIPTION:
URL:https://www.pourlebal.ch/index.php/event/atelier-danses-ditalie-sud/
END:VEVENT
END:VCALENDAR