BEGIN:VCALENDAR
VERSION:2.0
PRODID:-//Pour le Bal - ECPv4.1.1.1//NONSGML v1.0//EN
CALSCALE:GREGORIAN
METHOD:PUBLISH
X-WR-CALNAME:Pour le Bal
X-ORIGINAL-URL:https://www.pourlebal.ch
X-WR-CALDESC:Events for Pour le Bal
BEGIN:VEVENT
DTSTART;TZID=Europe/Paris:20200504T193000
DTEND;TZID=Europe/Paris:20200504T213000
DTSTAMP:20260420T052843
CREATED:20200106T145645
LAST-MODIFIED:20231024T095107
UID:948-1588620600-1588627800@www.pourlebal.ch
SUMMARY:Irlandais *2
DESCRIPTION:On continue sur la lancée des danses Irlandaises avec Manon
URL:https://www.pourlebal.ch/index.php/event/irlandais-3/
CATEGORIES:1er et 3ème lundis du mois,Ateliers de danse
END:VEVENT
END:VCALENDAR