BEGIN:VCALENDAR
VERSION:2.0
PRODID:-//Pour le Bal - ECPv4.1.1.1//NONSGML v1.0//EN
CALSCALE:GREGORIAN
METHOD:PUBLISH
X-WR-CALNAME:Pour le Bal
X-ORIGINAL-URL:https://www.pourlebal.ch
X-WR-CALDESC:Events for Pour le Bal
BEGIN:VEVENT
DTSTART;TZID=Europe/Paris:20250321T190000
DTEND;TZID=Europe/Paris:20250321T213000
DTSTAMP:20260423T112723
CREATED:20241112T122504
LAST-MODIFIED:20250310T165717
UID:1694-1742583600-1742592600@www.pourlebal.ch
SUMMARY:Stage de danses hongroises
DESCRIPTION:En collaboration avec les ADEM\, nous aurons le plaisir de pratiquer encore davantage les danses hongroises lors d’un grand stage en deux parties :\n \n\n\n\tVendredi 21 mars\, 19h-21h30 (2 heures avec 2 pauses de 15 minutes chacune) à la Maison de quartiers de Chêne-Bourg (le Spot)\n\tSamedi 22 mars\, 14h-16h30 (2 heures avec 2 pauses de 15 minutes chacune) au Point Favre (Foyer) Av. François-Adolphe-Grison 6\, 1225 Chêne-Bourg\n\nAttention : même si c’est sur deux jours\, il s’agit bien d’un seul stage en deux parties ! Les places sont également limitées.\n\nLe tarif est plus élevé que nos tarifs habituels (contrairement au tarif du bal qui lui est plus bas que nos tarifs habituels). Mais les deux parties du stage seront accompagnées de la musique live du groupe hongrois Quartett Levente. Et bien sûr nous retrouverons l’excellent pédagogue József Trefeli\, accompagné de Zsuzsanna Thuma Campi (que nous avons tous deux eu le plaisir de rencontrer aux ateliers).\n\nToutes les informations sur ce stage se trouvent sur la page correspondantes des ADEM : https://adem.ch/fr/saveurs-hongroises-programme/stage-de-danse-hongroise\n\n\n \nVoici le lien pour la billeterie\n\n
URL:https://www.pourlebal.ch/index.php/event/stage-de-danses-hongroises/
LOCATION:2 rue François-Perréard\, Chêne-Bourg\,  Genève\, 1225\, Suisse
CATEGORIES:Ateliers de danse
ORGANIZER;CN="Pourlebal":MAILTO:info@pourlebal.ch
END:VEVENT
END:VCALENDAR