BEGIN:VCALENDAR
VERSION:2.0
PRODID:-//Pour le Bal - ECPv4.1.1.1//NONSGML v1.0//EN
CALSCALE:GREGORIAN
METHOD:PUBLISH
X-WR-CALNAME:Pour le Bal
X-ORIGINAL-URL:https://www.pourlebal.ch
X-WR-CALDESC:Events for Pour le Bal
BEGIN:VEVENT
DTSTART;TZID=Europe/Paris:20260622T193000
DTEND;TZID=Europe/Paris:20260622T223000
DTSTAMP:20260420T233230
CREATED:20251207T131812
LAST-MODIFIED:20251207T131812
UID:1877-1782156600-1782167400@www.pourlebal.ch
SUMMARY:Pique-Nique Bal aux Bastions
DESCRIPTION:\n\nRendez-vous à 19h30 devant le mur des réformateurs pour le traditionnel pique-nique de fin d’année !\n\nBoeuf musical et buffet canadien\, pensez à prendre couverts\, gobelets si possible\, on fournit quelques boissons.\n\nLes groupes\, vous êtes les bienvenus ! Si vous souhaitez partager votre musique ou chants\, ça sera sympa de vous annoncer à l’avance si possible (info@pourlebal.ch). Sinon\, voici une proposition de morceaux pour le bœuf.\n\nEn cas de mauvais temps\, veuillez consulter notre site internet ou nos réseaux sociaux pour les dernières annonces.\n\nSourire\, instruments\, gambettes et c’est parti !\n\n
URL:https://www.pourlebal.ch/index.php/event/pique-nique-bal-aux-bastions-5/
LOCATION:Promenade des Bastions 1\, Genève\, 1204\, Suisse
CATEGORIES:Pic-nique bals
ORGANIZER;CN="Pourlebal":MAILTO:info@pourlebal.ch
END:VEVENT
END:VCALENDAR