BEGIN:VCALENDAR
VERSION:2.0
PRODID:-//Pour le Bal - ECPv4.1.1.1//NONSGML v1.0//EN
CALSCALE:GREGORIAN
METHOD:PUBLISH
X-WR-CALNAME:Pour le Bal
X-ORIGINAL-URL:https://www.pourlebal.ch
X-WR-CALDESC:Events for Pour le Bal
BEGIN:VEVENT
DTSTART;TZID=Europe/Paris:20220509T193000
DTEND;TZID=Europe/Paris:20220509T213000
DTSTAMP:20260423T052838
CREATED:20210717T114027
LAST-MODIFIED:20210717T114027
UID:1071-1652124600-1652131800@www.pourlebal.ch
SUMMARY:Atelier musiciens
DESCRIPTION:
URL:https://www.pourlebal.ch/index.php/event/atelier-musiciens-8/
LOCATION:2 rue François-Perréard\, Chêne-Bourg\,  Genève\, 1225\, Suisse
CATEGORIES:Atelier musiciens
ORGANIZER;CN="Pourlebal":MAILTO:info@pourlebal.ch
END:VEVENT
END:VCALENDAR