BEGIN:VCALENDAR
VERSION:2.0
PRODID:-//Pour le Bal - ECPv4.1.1.1//NONSGML v1.0//EN
CALSCALE:GREGORIAN
METHOD:PUBLISH
X-WR-CALNAME:Pour le Bal
X-ORIGINAL-URL:https://www.pourlebal.ch
X-WR-CALDESC:Events for Pour le Bal
BEGIN:VEVENT
DTSTART;TZID=Europe/Paris:20230320T193000
DTEND;TZID=Europe/Paris:20230320T213000
DTSTAMP:20260420T122515
CREATED:20230106T161310
LAST-MODIFIED:20230106T161310
UID:1205-1679340600-1679347800@www.pourlebal.ch
SUMMARY:Atelier chants à danser
DESCRIPTION:Viens chanter avec nous ! Cet atelier est coordonné par Céline.
URL:https://www.pourlebal.ch/index.php/event/atelier-chants-a-danser-5/
LOCATION:2 rue François-Perréard\, Chêne-Bourg\,  Genève\, 1225\, Suisse
CATEGORIES:Atelier chant
END:VEVENT
END:VCALENDAR